BEGIN:VCALENDAR
PRODID:-//Hannon Hill Events//Cascade CMS//EN
VERSION:2.0
X-WR-CALNAME:Student Built Homes Open House
X-WR-TIMEZONE:America/Chicago
BEGIN:VTIMEZONE
TZID:America/Chicago
BEGIN:DAYLIGHT
TZOFFSETFROM:-0600
TZOFFSETTO:-0500
TZNAME:CDT
DTSTART:19700308T020000
RRULE:FREQ=YEARLY;BYMONTH=3;BYDAY=2SU
END:DAYLIGHT
BEGIN:STANDARD
TZOFFSETFROM:-0500
TZOFFSETTO:-0600
TZNAME:CST
DTSTART:19701101T020000
RRULE:FREQ=YEARLY;BYMONTH=11;BYDAY=1SU
END:STANDARD
END:VTIMEZONE
BEGIN:VEVENT
DTSTART:20260526T190000
DTEND:20260526T210000
DTSTAMP:20260331T163021
UID:45cdeb150a0000fa0253c6d83c40f77b
CREATED:20260331T163016
DESCRIPTION:
LAST-MODIFIED:20260331T163016
SEQUENCE:0
STATUS:CONFIRMED
SUMMARY:Student Built Homes Open House
TRANSP:OPAQUE
END:VEVENT
END:VCALENDAR
