BEGIN:VCALENDAR
PRODID:-//Hannon Hill Events//Cascade CMS//EN
VERSION:2.0
X-WR-CALNAME:2026 College Transfer Fair
X-WR-TIMEZONE:America/Chicago
BEGIN:VTIMEZONE
TZID:America/Chicago
BEGIN:DAYLIGHT
TZOFFSETFROM:-0600
TZOFFSETTO:-0500
TZNAME:CDT
DTSTART:19700308T020000
RRULE:FREQ=YEARLY;BYMONTH=3;BYDAY=2SU
END:DAYLIGHT
BEGIN:STANDARD
TZOFFSETFROM:-0500
TZOFFSETTO:-0600
TZNAME:CST
DTSTART:19701101T020000
RRULE:FREQ=YEARLY;BYMONTH=11;BYDAY=1SU
END:STANDARD
END:VTIMEZONE
BEGIN:VEVENT
DTSTART:20260304T100000
DTEND:20260304T130000
DTSTAMP:20260302T113841
UID:8f63bf150a0000fa19f1ebd6dd6d80a8
CREATED:20260105T122037
DESCRIPTION:
LAST-MODIFIED:20260223T101529
SEQUENCE:0
STATUS:CONFIRMED
SUMMARY:2026 College Transfer Fair
TRANSP:OPAQUE
END:VEVENT
END:VCALENDAR
